BEGIN:VCALENDAR
VERSION:2.0
PRODID:-//INVITE Gaming - ECPv6.15.20//NONSGML v1.0//EN
CALSCALE:GREGORIAN
METHOD:PUBLISH
X-WR-CALNAME:INVITE Gaming
X-ORIGINAL-URL:https://invite-gaming.de
X-WR-CALDESC:Veranstaltungen für INVITE Gaming
REFRESH-INTERVAL;VALUE=DURATION:PT1H
X-Robots-Tag:noindex
X-PUBLISHED-TTL:PT1H
BEGIN:VTIMEZONE
TZID:UTC
BEGIN:STANDARD
TZOFFSETFROM:+0000
TZOFFSETTO:+0000
TZNAME:UTC
DTSTART:20200101T000000
END:STANDARD
END:VTIMEZONE
BEGIN:VEVENT
DTSTART;TZID=UTC:20240308T160000
DTEND;TZID=UTC:20240310T120000
DTSTAMP:20260425T152602
CREATED:20240111T165046Z
LAST-MODIFIED:20240111T165135Z
UID:6342-1709913600-1710072000@invite-gaming.de
SUMMARY:ElectrixX Xi
DESCRIPTION:Dresdens Kult-LAN steht wieder bevor! \nHIER geht es zur Event-Website
URL:https://invite-gaming.de/event/electrixx-xi
LOCATION:HTW Dresden\, Friedrich-List-Platz 1\, Dresden\, Sachsen\, 01069\, Deutschland
ATTACH;FMTTYPE=image/png:https://invite-gaming.de/wp-content/uploads/2024/01/png.png
ORGANIZER;CN="INVITE Gaming e.V.":MAILTO:kontakt@invite-gaming.de
END:VEVENT
BEGIN:VEVENT
DTSTART;TZID=UTC:20231022T130000
DTEND;TZID=UTC:20231022T190000
DTSTAMP:20260425T152602
CREATED:20230901T180207Z
LAST-MODIFIED:20230903T084259Z
UID:6336-1697979600-1698001200@invite-gaming.de
SUMMARY:Dresdner Mario Kart Turnier #1
DESCRIPTION:In unserem Anfänger-Turnier ermitteln wir die besten Mario Kart Spieler des Tages. Für die ersten drei Plätze winkt ein Preisgeld in höhe von mehreren Hundert Euro. Das Turnier findet live vor Ort statt. Eingeladen sind Spieler:innen jeglichen Levels. Außerdem findet ihr auf unserem Event noch mehrere kleine Side-Events für die Pause. \n> Veranstaltungswebsite
URL:https://invite-gaming.de/event/dresdner-mario-kart-turnier-1
LOCATION:Medienkulturzentrum Dresden\, Kraftwerk Mitte 3\, Dresden\, Sachsen\, 01067\, Deutschland
ORGANIZER;CN="INVITE Gaming e.V.":MAILTO:kontakt@invite-gaming.de
END:VEVENT
BEGIN:VEVENT
DTSTART;VALUE=DATE:20231021
DTEND;VALUE=DATE:20231023
DTSTAMP:20260425T152602
CREATED:20230901T174708Z
LAST-MODIFIED:20230901T174906Z
UID:6328-1697846400-1698019199@invite-gaming.de
SUMMARY:DUST #8 - MEMENTO MARTI
DESCRIPTION:DUST ist eine Turnierserie\, die von dem Gaming-Verein in Kooperation mit der Smash Bros. Community Dresdens organisiert und gehosted wird. Spieler:innen jedes Levels sind herzlich eingeladen. Wir bieten alles von bestem deutschen Toplevel\, bis hin zu einer Amateurbracket für alle Anfänger\, die sich selbst auf das nächste Level pushen wollen. \n> Veranstaltungswebsite <
URL:https://invite-gaming.de/event/dust-8-memento-marti
LOCATION:Medienkulturzentrum Dresden\, Kraftwerk Mitte 3\, Dresden\, Sachsen\, 01067\, Deutschland
ORGANIZER;CN="INVITE Gaming e.V.":MAILTO:kontakt@invite-gaming.de
END:VEVENT
BEGIN:VEVENT
DTSTART;TZID=UTC:20230928T170000
DTEND;TZID=UTC:20230928T220000
DTSTAMP:20260425T152602
CREATED:20230901T174045Z
LAST-MODIFIED:20230901T174144Z
UID:6326-1695920400-1695938400@invite-gaming.de
SUMMARY:Smash Weekly
DESCRIPTION:
URL:https://invite-gaming.de/event/smash-weekly
LOCATION:Medienkulturzentrum Dresden\, Kraftwerk Mitte 3\, Dresden\, Sachsen\, 01067\, Deutschland
ORGANIZER;CN="INVITE Gaming e.V.":MAILTO:kontakt@invite-gaming.de
END:VEVENT
BEGIN:VEVENT
DTSTART;TZID=UTC:20230902T110000
DTEND;TZID=UTC:20230902T190000
DTSTAMP:20260425T152602
CREATED:20230814T174024Z
LAST-MODIFIED:20230814T174024Z
UID:6322-1693652400-1693681200@invite-gaming.de
SUMMARY:Kraftwerk-Mitte-Fest
DESCRIPTION:
URL:https://invite-gaming.de/event/kraftwerk-mitte-fest
LOCATION:Medienkulturzentrum Dresden\, Kraftwerk Mitte 3\, Dresden\, Sachsen\, 01067\, Deutschland
ATTACH;FMTTYPE=image/png:https://invite-gaming.de/wp-content/uploads/2023/08/KWM-Fest_23_1080x700.png
END:VEVENT
BEGIN:VEVENT
DTSTART;TZID=UTC:20230831T173000
DTEND;TZID=UTC:20230831T220000
DTSTAMP:20260425T152602
CREATED:20230810T093742Z
LAST-MODIFIED:20230810T093742Z
UID:6320-1693503000-1693519200@invite-gaming.de
SUMMARY:SSB Dresden weekly
DESCRIPTION:
URL:https://invite-gaming.de/event/ssb-dresden-weekly-2
LOCATION:Medienkulturzentrum Dresden\, Kraftwerk Mitte 3\, Dresden\, Sachsen\, 01067\, Deutschland
ORGANIZER;CN="INVITE Gaming e.V.":MAILTO:kontakt@invite-gaming.de
END:VEVENT
BEGIN:VEVENT
DTSTART;TZID=UTC:20230824T173000
DTEND;TZID=UTC:20230824T220000
DTSTAMP:20260425T152602
CREATED:20230810T093653Z
LAST-MODIFIED:20230810T093653Z
UID:6318-1692898200-1692914400@invite-gaming.de
SUMMARY:SSB Dresden weekly
DESCRIPTION:
URL:https://invite-gaming.de/event/ssb-dresden-weekly
LOCATION:Medienkulturzentrum Dresden\, Kraftwerk Mitte 3\, Dresden\, Sachsen\, 01067\, Deutschland
ORGANIZER;CN="INVITE Gaming e.V.":MAILTO:kontakt@invite-gaming.de
END:VEVENT
BEGIN:VEVENT
DTSTART;VALUE=DATE:20221202
DTEND;VALUE=DATE:20221205
DTSTAMP:20260425T152602
CREATED:20221213T190150Z
LAST-MODIFIED:20221213T190150Z
UID:6238-1669939200-1670198399@invite-gaming.de
SUMMARY:ElectrixX My
DESCRIPTION:
URL:https://invite-gaming.de/event/electrixx-my
LOCATION:Sachsen
ORGANIZER;CN="INVITE Gaming e.V.":MAILTO:kontakt@invite-gaming.de
END:VEVENT
BEGIN:VEVENT
DTSTART;VALUE=DATE:20221022
DTEND;VALUE=DATE:20221024
DTSTAMP:20260425T152602
CREATED:20221213T185915Z
LAST-MODIFIED:20221213T185915Z
UID:6234-1666396800-1666569599@invite-gaming.de
SUMMARY:DUST #6
DESCRIPTION:
URL:https://invite-gaming.de/event/dust-6
LOCATION:Medienkulturzentrum Dresden\, Kraftwerk Mitte 3\, Dresden\, Sachsen\, 01067\, Deutschland
ORGANIZER;CN="INVITE Gaming e.V.":MAILTO:kontakt@invite-gaming.de
END:VEVENT
BEGIN:VEVENT
DTSTART;VALUE=DATE:20220813
DTEND;VALUE=DATE:20220815
DTSTAMP:20260425T152602
CREATED:20221213T185839Z
LAST-MODIFIED:20221213T185839Z
UID:6232-1660348800-1660521599@invite-gaming.de
SUMMARY:DUST #5
DESCRIPTION:
URL:https://invite-gaming.de/event/dust-5
LOCATION:Medienkulturzentrum Dresden\, Kraftwerk Mitte 3\, Dresden\, Sachsen\, 01067\, Deutschland
ORGANIZER;CN="INVITE Gaming e.V.":MAILTO:kontakt@invite-gaming.de
END:VEVENT
BEGIN:VEVENT
DTSTART;VALUE=DATE:20220530
DTEND;VALUE=DATE:20220531
DTSTAMP:20260425T152602
CREATED:20221213T190333Z
LAST-MODIFIED:20221213T190333Z
UID:6242-1653868800-1653955199@invite-gaming.de
SUMMARY:Geek Games
DESCRIPTION:
URL:https://invite-gaming.de/event/geek-games
LOCATION:Twitch
ORGANIZER;CN="INVITE Gaming e.V.":MAILTO:kontakt@invite-gaming.de
END:VEVENT
BEGIN:VEVENT
DTSTART;VALUE=DATE:20220513
DTEND;VALUE=DATE:20220515
DTSTAMP:20260425T152602
CREATED:20221213T190010Z
LAST-MODIFIED:20221213T190010Z
UID:6236-1652400000-1652572799@invite-gaming.de
SUMMARY:DUST #4
DESCRIPTION:
URL:https://invite-gaming.de/event/dust-4
LOCATION:Medienkulturzentrum Dresden\, Kraftwerk Mitte 3\, Dresden\, Sachsen\, 01067\, Deutschland
ORGANIZER;CN="INVITE Gaming e.V.":MAILTO:kontakt@invite-gaming.de
END:VEVENT
BEGIN:VEVENT
DTSTART;VALUE=DATE:20220506
DTEND;VALUE=DATE:20220509
DTSTAMP:20260425T152602
CREATED:20221213T190251Z
LAST-MODIFIED:20221213T190251Z
UID:6240-1651795200-1652054399@invite-gaming.de
SUMMARY:ElectrixX
DESCRIPTION:
URL:https://invite-gaming.de/event/electrixx
LOCATION:HTW Dresden\, Friedrich-List-Platz 1\, Dresden\, Sachsen\, 01069\, Deutschland
ORGANIZER;CN="INVITE Gaming e.V.":MAILTO:kontakt@invite-gaming.de
END:VEVENT
BEGIN:VEVENT
DTSTART;TZID=UTC:20220430T160000
DTEND;TZID=UTC:20220430T210000
DTSTAMP:20260425T152602
CREATED:20220414T144605Z
LAST-MODIFIED:20220414T144605Z
UID:6201-1651334400-1651352400@invite-gaming.de
SUMMARY:League of Legends 2 vs 2 Turnier
DESCRIPTION:Kämpft euch durch eine Single/Double Elimination-Bracket und werdet zum Sieger des monatlichen 2v2 LoL INVITE Turniers! Wir erwarten euch! \n30€ Preisgeld: \n– 1. Platz 20€ \n– 2. Platz 10€
URL:https://invite-gaming.de/event/league-of-legends-2-vs-2-turnier
LOCATION:Turnier-Discord
ATTACH;FMTTYPE=image/png:https://invite-gaming.de/wp-content/uploads/2022/02/Kopie-von-Monatliches-Turnier.png
ORGANIZER;CN="INVITE Gaming e.V.":MAILTO:kontakt@invite-gaming.de
END:VEVENT
BEGIN:VEVENT
DTSTART;TZID=UTC:20220326T140000
DTEND;TZID=UTC:20220326T170000
DTSTAMP:20260425T152602
CREATED:20220312T182807Z
LAST-MODIFIED:20220312T182807Z
UID:6177-1648303200-1648314000@invite-gaming.de
SUMMARY:Rocket League Turnier
DESCRIPTION:
URL:https://invite-gaming.de/event/rocket-league-turnier
LOCATION:Turnier-Discord
ATTACH;FMTTYPE=image/png:https://invite-gaming.de/wp-content/uploads/2022/03/Screenshot-2022-03-12-at-19-27-09-𝙸𝙽𝚅𝙸𝚃𝙴-𝙶𝚊𝚖𝚒𝚗𝚐-𝚎.𝚅.-@invitegaming-•-Instagram-Fotos-und-Videos.png
ORGANIZER;CN="INVITE Gaming e.V.":MAILTO:kontakt@invite-gaming.de
END:VEVENT
BEGIN:VEVENT
DTSTART;TZID=UTC:20220319T130000
DTEND;TZID=UTC:20220319T190000
DTSTAMP:20260425T152602
CREATED:20220301T153638Z
LAST-MODIFIED:20220301T153807Z
UID:6171-1647694800-1647716400@invite-gaming.de
SUMMARY:Mario Kart Turnier
DESCRIPTION:
URL:https://invite-gaming.de/event/mario-kart-turnier
LOCATION:Medienkulturzentrum Dresden\, Kraftwerk Mitte 3\, Dresden\, Sachsen\, 01067\, Deutschland
ATTACH;FMTTYPE=image/png:https://invite-gaming.de/wp-content/uploads/2022/03/Kopie-von-Monatliches-Turnier1.png
ORGANIZER;CN="INVITE Gaming e.V.":MAILTO:kontakt@invite-gaming.de
END:VEVENT
BEGIN:VEVENT
DTSTART;TZID=UTC:20220226T130000
DTEND;TZID=UTC:20220226T190000
DTSTAMP:20260425T152602
CREATED:20220214T084220Z
LAST-MODIFIED:20220214T084220Z
UID:6164-1645880400-1645902000@invite-gaming.de
SUMMARY:League of Legends 5vs5 Turnier
DESCRIPTION:
URL:https://invite-gaming.de/event/league-of-legends-5vs5-turnier
LOCATION:Turnier-Discord
ATTACH;FMTTYPE=image/png:https://invite-gaming.de/wp-content/uploads/2022/02/Kopie-von-Monatliches-Turnier.png
ORGANIZER;CN="INVITE Gaming e.V.":MAILTO:kontakt@invite-gaming.de
END:VEVENT
BEGIN:VEVENT
DTSTART;TZID=UTC:20220129T130000
DTEND;TZID=UTC:20220129T170000
DTSTAMP:20260425T152602
CREATED:20220106T184229Z
LAST-MODIFIED:20220106T184611Z
UID:6150-1643461200-1643475600@invite-gaming.de
SUMMARY:League of Legends 2vs2 Turnier
DESCRIPTION:Alle Infos sind auf der Turnier Webseite.
URL:https://invite-gaming.de/event/league-of-legends-2vs2-turnier
LOCATION:Turnier-Discord
ATTACH;FMTTYPE=image/png:https://invite-gaming.de/wp-content/uploads/2022/01/1.png
ORGANIZER;CN="INVITE Gaming e.V.":MAILTO:kontakt@invite-gaming.de
END:VEVENT
BEGIN:VEVENT
DTSTART;TZID=UTC:20211119T173000
DTEND;TZID=UTC:20211121T230000
DTSTAMP:20260425T152602
CREATED:20211024T120013Z
LAST-MODIFIED:20211024T120355Z
UID:6123-1637343000-1637535600@invite-gaming.de
SUMMARY:ElectrixX Lambda | LAN-Party
DESCRIPTION:Liebe Gaming-Fans\,\nendlich wieder Lan-Party!! 🙂 \nNeben knallharten LoL Turnieren\, Shootern mit CS GO und witzigen Rennspielen à la Wreckfest und Blur\,\nfindet vom 19.11. 17:30 bis 21.11. 11:00 die LAN-Party “ElectriXx Lambda” im PAB unserer HTW Dresden statt.\nInsgesamt gibt es Turnierpreise im Wert von 500€ zu gewinnen und Gewinner*innen dürfen sich mit wunderbaren Getränken\,\nHardware und Applaus krönen lassen!\nAlle Infos zu Turnierspielen werden zu gegebener Zeit hier\, auf der ElectrixX Homepage und auf der StuRa-Homepage veröffentlicht.\nDer Eintrittspreis beträgt für Studies 7 Euro und für nicht Studies 10 Euro. Es gibt nur Online Verkauf und keine Abendkasse. Geht zur Reservierung einfach auf die ElectrixX-LAN Homepage.\nAuch wird es traditionell wieder tägliche Pizza Sammelbestellungen und evtl. auch zeitweise einen Food-Truck geben. \nNeben den regulären Turnierspielen werden selbstverständlich auch eine\nKonsolen-Ecke zur Verfügung gestellt und alle möglich anderen Spiele gezockt werden\, die man von anderen LAN-Partys kennt. \nDer virtuelle Spaß ist leider auf 80 Plätze begrenzt.\nDarum\, legt euch den Termin frei und feiert mit uns eine außergewöhnliche Zeit. \nBei Fragen schreibt uns einfach unter lan@stura.htw-dresden.de. \nWir freuen uns auf euch!
URL:https://invite-gaming.de/event/electrixx-lambda
LOCATION:HTW Dresden\, Friedrich-List-Platz 1\, Dresden\, Sachsen\, 01069\, Deutschland
ATTACH;FMTTYPE=image/jpeg:https://invite-gaming.de/wp-content/uploads/2021/10/electrixX_Lambda.jpg
ORGANIZER;CN="INVITE Gaming e.V.":MAILTO:kontakt@invite-gaming.de
END:VEVENT
BEGIN:VEVENT
DTSTART;VALUE=DATE:20211030
DTEND;VALUE=DATE:20211031
DTSTAMP:20260425T152602
CREATED:20211004T151442Z
LAST-MODIFIED:20211021T070302Z
UID:6111-1635552000-1635638399@invite-gaming.de
SUMMARY:DUST #3 - HALLOWEEN MOVES
DESCRIPTION:DUST ist eine Turnierreihe\, die von der Dresdner Super Smash Bros. Community in Koorperation mit dem Esports Verein INVITE Gaming ins Leben gerufen wurde.\nEingeladen sind Spieler:innen jeglichen Levels. Wir bieten sowohl competitive deutsches Toplevel Talent\, als auch eine Amateurbracket für alle\, die ihr Play auf das nächste Level bringen wollen.\nNeben vielen Ultimate Stationen\, wird es auch mind. ein Melee Setup\, Mario Kart und andere Abwechselungen von einem harten Smashtag geben. \nAnmeldung und Infos:\nhttps://smash.gg/tournament/dust-3-halloween-moves/details
URL:https://invite-gaming.de/event/dust-3-halloween-moves
LOCATION:Medienkulturzentrum Dresden\, Kraftwerk Mitte 3\, Dresden\, Sachsen\, 01067\, Deutschland
ATTACH;FMTTYPE=image/png:https://invite-gaming.de/wp-content/uploads/2021/10/dust3_1920x1080.png
ORGANIZER;CN="INVITE Gaming e.V.":MAILTO:kontakt@invite-gaming.de
END:VEVENT
BEGIN:VEVENT
DTSTART;TZID=UTC:20210920T174500
DTEND;TZID=UTC:20210920T200000
DTSTAMP:20260425T152602
CREATED:20210824T141416Z
LAST-MODIFIED:20210831T145830Z
UID:6089-1632159900-1632168000@invite-gaming.de
SUMMARY:Gamer-Bowling Dresden
DESCRIPTION:Wir veranstalten ein Bowling-Community-Treffen für Gamer in Dresden und jeder ist herzlich dazu eingeladen. \nWann?\n20.09.2021\, Treff um 17:45 Uhr\nSpielzeit 2h (18:00 – 20:00 Uhr) \nWo?\nJoe’s Billard- & Bowlingcenter\nMügelner Str. 36\, Dresden \nKosten\n2\,70€ Ausleihgebühren für Schuhe (Bitte in Bargeld mitbringen!)\nBahnnutzung kostenlos. \nWir freuen uns wenn du mit dabei bist 🙂\nBitte melde dich im Channel #Bowling auf unserem Discord Server an.
URL:https://invite-gaming.de/event/gamer-bowling-dresden
LOCATION:Joe’s Billard- & Bowlingcenter\, Mügelner Str. 36\, Dresden\, Sachsen\, 01237\, Deutschland
ATTACH;FMTTYPE=image/png:https://invite-gaming.de/wp-content/uploads/2021/08/bowling.png
ORGANIZER;CN="INVITE Gaming e.V.":MAILTO:kontakt@invite-gaming.de
END:VEVENT
BEGIN:VEVENT
DTSTART;TZID=UTC:20210911T160000
DTEND;TZID=UTC:20210911T233000
DTSTAMP:20260425T152602
CREATED:20210906T143628Z
LAST-MODIFIED:20210906T143704Z
UID:6098-1631376000-1631403000@invite-gaming.de
SUMMARY:Gamer-Grillen Dresden
DESCRIPTION:Hallo Freunde der Grill-Kultur \nBevor die Tage noch schlechter und ungemütlicher werden heißen wir Euch Willkommen zu einer entspannten und fröhlichen Runde Grillen!\nWir bringen den Grill mit und sorgen für ein wenig Getränke und Knabbereien und Ihr bringt euer nötiges Essen und Leckereien mit. \nWann?\nAm 11.09.2021\, Treff ab 16 Uhr\, gegrillt wird ab ca 18 Uhr und es geht bis Open-End \nWo?\n Grillplatz am Rosengarten in Dresden am Elbufer Wir freuen uns wenn du mit dabei wärst \nBitte melde dich im #grillen Channel auf unserem Discord Server mit einer kurzen Chat-Nachricht an.
URL:https://invite-gaming.de/event/gamer-grillen-dresden
LOCATION:Grillplatz am Rosengarten Dresden\, Carusufer 5\, Dresden\, Sachsen\, 01099\, Deutschland
ATTACH;FMTTYPE=image/png:https://invite-gaming.de/wp-content/uploads/2021/09/Kopie_von_INVITE_Gamers_Summer.png
ORGANIZER;CN="INVITE Gaming e.V.":MAILTO:kontakt@invite-gaming.de
END:VEVENT
BEGIN:VEVENT
DTSTART;TZID=UTC:20210904T100000
DTEND;TZID=UTC:20210904T180000
DTSTAMP:20260425T152602
CREATED:20210823T074228Z
LAST-MODIFIED:20210823T074421Z
UID:6086-1630749600-1630778400@invite-gaming.de
SUMMARY:Gaming Room zum Tag der offenen Tür im Kraftwerk Mitte Dresden
DESCRIPTION:Wir veranstalten einen Gaming-Room im Medienkulturzentrum Dresden zum Tag der offenen Tür im Kraftwerk Mitte Dresden.
URL:https://invite-gaming.de/event/gaming-room-zum-tag-der-offenen-tuer-im-kraftwerk-mitte-dresden
LOCATION:Medienkulturzentrum Dresden\, Kraftwerk Mitte 3\, Dresden\, Sachsen\, 01067\, Deutschland
ORGANIZER;CN="INVITE Gaming e.V.":MAILTO:kontakt@invite-gaming.de
END:VEVENT
BEGIN:VEVENT
DTSTART;TZID=UTC:20210829T150000
DTEND;TZID=UTC:20210829T180000
DTSTAMP:20260425T152602
CREATED:20210806T100928Z
LAST-MODIFIED:20210806T120235Z
UID:6062-1630249200-1630260000@invite-gaming.de
SUMMARY:Gamers Summer - Fußballgolf
DESCRIPTION:Hallo Gamer 😊 \nWer sind denn eigentlich die Gesichter hinter den täglichen Stimmen im Discord? \nUm diese Frage zu beantworten gibt es keine bessere Zeit als den Sommer! Eine Zeit um gemeinsam den überhitzten Gaming-Ort zu verlassen und die Sonne zu genießen\, bevor wieder die verregneten Gaming-Tage des Herbstes bevorstehen. \nSpiele mit uns eine Runde Fußballgolf – also Minigolf mit Fußbällen – und lerne dabei deine regionale Gaming-Community kennen oder treffe einige altbekannte Gesichter wieder. \nKosten: 14\,00€ für Erwachsene\, 10\,00€ bis 17 Jahre | Barzahlung vor Ort\nTreffpunkt: Am Wachberg 31\, 01458 Ottendorf-Okrilla\nZeit: 29.08.2021\, 14:45 Uhr\nInfos: https://soccergolf.de/soccergolf-sachsen/ \nAnmeldung\, Absprachen oder Rückfragen\, sowie Fahrtgemeinschaften bitte im #Sommerevents Channel auf unserem Discord Server. \nLageplan:
URL:https://invite-gaming.de/event/gamers-summer-fussballgolf
LOCATION:Soccergolf Sachsen\, Am Wachberg 31\, Ottendorf-Okrilla\, Sachsen\, 01458\, Deutschland
ATTACH;FMTTYPE=image/png:https://invite-gaming.de/wp-content/uploads/2021/08/INVITE_Gamers_Summer-1.png
ORGANIZER;CN="INVITE Gaming e.V.":MAILTO:kontakt@invite-gaming.de
END:VEVENT
BEGIN:VEVENT
DTSTART;TZID=UTC:20210716T160000
DTEND;TZID=UTC:20210718T180000
DTSTAMP:20260425T152602
CREATED:20210530T100336Z
LAST-MODIFIED:20210530T100336Z
UID:5906-1626451200-1626631200@invite-gaming.de
SUMMARY:MEDIC 2
DESCRIPTION:The Gamer’s Health-Kit
URL:https://invite-gaming.de/event/medic-2
LOCATION:Twitch
ORGANIZER;CN="INVITE Gaming e.V.":MAILTO:kontakt@invite-gaming.de
END:VEVENT
BEGIN:VEVENT
DTSTART;TZID=UTC:20210516T110000
DTEND;TZID=UTC:20210516T140000
DTSTAMP:20260425T152602
CREATED:20210428T125128Z
LAST-MODIFIED:20210428T125219Z
UID:5873-1621162800-1621173600@invite-gaming.de
SUMMARY:Legends of INVITE #3
DESCRIPTION:Legend of Runeterra Turnier \nA classic open Swiss tournament with 4-6 rounds and Double Elimination Playoffs for the new season/expansion \,\,Guardians of the Ancient”! We’re having an ongoing monthly tournament series which will be always organized the weekend after a balance patch or expansion! Every tourney is independent of each other and you can always participate in the next one if you lose! For submitting decks fill out this form right here until Sunday\, May 9th 11 am CET: https://invite-gaming.de/lor
URL:https://invite-gaming.de/event/legends-of-invite-3
LOCATION:Twitch
ATTACH;FMTTYPE=image/jpeg:https://invite-gaming.de/wp-content/uploads/2021/04/lor03.jpg
ORGANIZER;CN="INVITE Gaming e.V.":MAILTO:kontakt@invite-gaming.de
END:VEVENT
BEGIN:VEVENT
DTSTART;TZID=UTC:20210424T130000
DTEND;TZID=UTC:20210424T190000
DTSTAMP:20260425T152602
CREATED:20210410T174206Z
LAST-MODIFIED:20210410T174206Z
UID:5788-1619269200-1619290800@invite-gaming.de
SUMMARY:Geek Games #02 | League of Legends
DESCRIPTION:Geek Games – Das monatliche eSport Turnier. Du willst zeigen was du im eSport drauf hast? Dann sind die Geek Games genau das Richtige für dich! Auf dich und deine Mates wartet ein monatliches Turnier mit immer wechselnden Spielen und einem Preisgeld von bis zu 100€.
URL:https://invite-gaming.de/event/geek-games-02-league-of-legends
LOCATION:Twitch
ATTACH;FMTTYPE=image/png:https://invite-gaming.de/wp-content/uploads/2021/04/gg02.png
END:VEVENT
BEGIN:VEVENT
DTSTART;TZID=UTC:20210404T110000
DTEND;TZID=UTC:20210404T170000
DTSTAMP:20260425T152602
CREATED:20210328T120759Z
LAST-MODIFIED:20210330T150929Z
UID:5745-1617534000-1617555600@invite-gaming.de
SUMMARY:Legends of INVITE #2
DESCRIPTION:2. Legends of Runeterra Turnier
URL:https://invite-gaming.de/event/legends-of-invite-2
LOCATION:Twitch
ATTACH;FMTTYPE=image/png:https://invite-gaming.de/wp-content/uploads/2021/03/legendsOfINVITE.png
ORGANIZER;CN="INVITE Gaming e.V.":MAILTO:kontakt@invite-gaming.de
END:VEVENT
BEGIN:VEVENT
DTSTART;TZID=UTC:20210327T120000
DTEND;TZID=UTC:20210327T180000
DTSTAMP:20260425T152602
CREATED:20210302T093637Z
LAST-MODIFIED:20210302T094029Z
UID:5680-1616846400-1616868000@invite-gaming.de
SUMMARY:Geek Games 01 | Rocket League
DESCRIPTION:Geek Games –\nDas monatliche eSport Turnier. \nDu willst zeigen was du im eSport drauf hast? Dann sind die Geek Games genau das Richtige für dich! Auf dich und deine Mates wartet ein monatliches Turnier mit immer wechselnden Spielen und einem Preisgeld von bis zu 170€.
URL:https://invite-gaming.de/event/geek-games-01-rocket-league
LOCATION:Sachsen
ATTACH;FMTTYPE=image/jpeg:https://invite-gaming.de/wp-content/uploads/2021/03/01.jpg
ORGANIZER;CN="INVITE Gaming e.V.":MAILTO:kontakt@invite-gaming.de
END:VEVENT
BEGIN:VEVENT
DTSTART;TZID=UTC:20210307T130000
DTEND;TZID=UTC:20210307T190000
DTSTAMP:20260425T152602
CREATED:20210223T170951Z
LAST-MODIFIED:20210223T171856Z
UID:5677-1615122000-1615143600@invite-gaming.de
SUMMARY:Legends of INVITE #1 (\,\,Empires of the Ascended" Version 1/2)
DESCRIPTION:Legends of Runeterra Turnier
URL:https://invite-gaming.de/event/legends-of-invite-1-empires-of-the-ascended-version-1-2
LOCATION:Twitch
ATTACH;FMTTYPE=image/png:https://invite-gaming.de/wp-content/uploads/2021/02/fb_lor.png
ORGANIZER;CN="INVITE Gaming e.V.":MAILTO:kontakt@invite-gaming.de
END:VEVENT
END:VCALENDAR